BEGIN:VCALENDAR
VERSION:2.0
PRODID:-//CCSJE - ECPv6.15.13//NONSGML v1.0//EN
CALSCALE:GREGORIAN
METHOD:PUBLISH
X-WR-CALNAME:CCSJE
X-ORIGINAL-URL:https://www.ccsje.org
X-WR-CALDESC:Events for CCSJE
REFRESH-INTERVAL;VALUE=DURATION:PT1H
X-Robots-Tag:noindex
X-PUBLISHED-TTL:PT1H
BEGIN:VTIMEZONE
TZID:America/Vancouver
BEGIN:DAYLIGHT
TZOFFSETFROM:-0800
TZOFFSETTO:-0700
TZNAME:PDT
DTSTART:20250309T100000
END:DAYLIGHT
BEGIN:STANDARD
TZOFFSETFROM:-0700
TZOFFSETTO:-0800
TZNAME:PST
DTSTART:20251102T090000
END:STANDARD
BEGIN:DAYLIGHT
TZOFFSETFROM:-0800
TZOFFSETTO:-0700
TZNAME:PDT
DTSTART:20260308T100000
END:DAYLIGHT
BEGIN:STANDARD
TZOFFSETFROM:-0700
TZOFFSETTO:-0800
TZNAME:PST
DTSTART:20261101T090000
END:STANDARD
BEGIN:DAYLIGHT
TZOFFSETFROM:-0800
TZOFFSETTO:-0700
TZNAME:PDT
DTSTART:20270314T100000
END:DAYLIGHT
BEGIN:STANDARD
TZOFFSETFROM:-0700
TZOFFSETTO:-0800
TZNAME:PST
DTSTART:20271107T090000
END:STANDARD
END:VTIMEZONE
BEGIN:VEVENT
DTSTART;TZID=America/Vancouver:20260712T090000
DTEND;TZID=America/Vancouver:20260712T093000
DTSTAMP:20260423T135509
CREATED:20260325T204202Z
LAST-MODIFIED:20260325T204202Z
UID:4159-1783846800-1783848600@www.ccsje.org
SUMMARY:Morning Prayer
DESCRIPTION:Start time: 9:15 am.
URL:https://www.ccsje.org/calendar/morning-prayer-30/
CATEGORIES:Divine Service,Trinitytide
END:VEVENT
BEGIN:VEVENT
DTSTART;TZID=America/Vancouver:20260712T100000
DTEND;TZID=America/Vancouver:20260712T110000
DTSTAMP:20260423T135509
CREATED:20260325T204259Z
LAST-MODIFIED:20260325T204259Z
UID:4161-1783850400-1783854000@www.ccsje.org
SUMMARY:Holy Eucharist
DESCRIPTION:Sixth Sunday After Trinity.
URL:https://www.ccsje.org/calendar/holy-eucharist-58/
CATEGORIES:Divine Service,Trinitytide
END:VEVENT
END:VCALENDAR