BEGIN:VCALENDAR
VERSION:2.0
PRODID:-//CCSJE - ECPv6.15.13//NONSGML v1.0//EN
CALSCALE:GREGORIAN
METHOD:PUBLISH
X-WR-CALNAME:CCSJE
X-ORIGINAL-URL:https://www.ccsje.org
X-WR-CALDESC:Events for CCSJE
REFRESH-INTERVAL;VALUE=DURATION:PT1H
X-Robots-Tag:noindex
X-PUBLISHED-TTL:PT1H
BEGIN:VTIMEZONE
TZID:America/Vancouver
BEGIN:DAYLIGHT
TZOFFSETFROM:-0800
TZOFFSETTO:-0700
TZNAME:PDT
DTSTART:20250309T100000
END:DAYLIGHT
BEGIN:STANDARD
TZOFFSETFROM:-0700
TZOFFSETTO:-0800
TZNAME:PST
DTSTART:20251102T090000
END:STANDARD
BEGIN:DAYLIGHT
TZOFFSETFROM:-0800
TZOFFSETTO:-0700
TZNAME:PDT
DTSTART:20260308T100000
END:DAYLIGHT
BEGIN:STANDARD
TZOFFSETFROM:-0700
TZOFFSETTO:-0800
TZNAME:PST
DTSTART:20261101T090000
END:STANDARD
BEGIN:DAYLIGHT
TZOFFSETFROM:-0800
TZOFFSETTO:-0700
TZNAME:PDT
DTSTART:20270314T100000
END:DAYLIGHT
BEGIN:STANDARD
TZOFFSETFROM:-0700
TZOFFSETTO:-0800
TZNAME:PST
DTSTART:20271107T090000
END:STANDARD
END:VTIMEZONE
BEGIN:VEVENT
DTSTART;TZID=America/Vancouver:20260305T103000
DTEND;TZID=America/Vancouver:20260305T113000
DTSTAMP:20260423T145424
CREATED:20260130T191054Z
LAST-MODIFIED:20260130T191054Z
UID:3989-1772706600-1772710200@www.ccsje.org
SUMMARY:Bible Study
DESCRIPTION:Cathedral members only. Contact for more information.
URL:https://www.ccsje.org/calendar/bible-study-5/
CATEGORIES:Educational
END:VEVENT
BEGIN:VEVENT
DTSTART;TZID=America/Vancouver:20260305T100000
DTEND;TZID=America/Vancouver:20260305T103000
DTSTAMP:20260423T145424
CREATED:20260130T191014Z
LAST-MODIFIED:20260130T191014Z
UID:3987-1772704800-1772706600@www.ccsje.org
SUMMARY:Holy Eucharist
DESCRIPTION:Lenten Feria.
URL:https://www.ccsje.org/calendar/holy-eucharist-11/
CATEGORIES:Divine Service,Lent
END:VEVENT
BEGIN:VEVENT
DTSTART;TZID=America/Vancouver:20260301T100000
DTEND;TZID=America/Vancouver:20260301T110000
DTSTAMP:20260423T145424
CREATED:20260130T190919Z
LAST-MODIFIED:20260130T190919Z
UID:3985-1772359200-1772362800@www.ccsje.org
SUMMARY:Holy Eucharist
DESCRIPTION:Second Sunday in Lent
URL:https://www.ccsje.org/calendar/holy-eucharist-10/
CATEGORIES:Divine Service,Lent
END:VEVENT
BEGIN:VEVENT
DTSTART;TZID=America/Vancouver:20260301T090000
DTEND;TZID=America/Vancouver:20260301T093000
DTSTAMP:20260423T145424
CREATED:20260130T190847Z
LAST-MODIFIED:20260130T190847Z
UID:3983-1772355600-1772357400@www.ccsje.org
SUMMARY:Morning Prayer
DESCRIPTION:Start time: 9:15 am.
URL:https://www.ccsje.org/calendar/morning-prayer-5/
CATEGORIES:Divine Service,Lent
END:VEVENT
BEGIN:VEVENT
DTSTART;TZID=America/Vancouver:20260227T170000
DTEND;TZID=America/Vancouver:20260227T180000
DTSTAMP:20260423T145424
CREATED:20260130T190808Z
LAST-MODIFIED:20260130T190808Z
UID:3981-1772211600-1772215200@www.ccsje.org
SUMMARY:Stations of the Cross
DESCRIPTION:
URL:https://www.ccsje.org/calendar/stations-of-the-cross/
CATEGORIES:Lent
END:VEVENT
BEGIN:VEVENT
DTSTART;TZID=America/Vancouver:20260226T103000
DTEND;TZID=America/Vancouver:20260226T113000
DTSTAMP:20260423T145424
CREATED:20260130T190731Z
LAST-MODIFIED:20260130T190731Z
UID:3979-1772101800-1772105400@www.ccsje.org
SUMMARY:Bible Study
DESCRIPTION:Cathedral members only. Contact for more information.
URL:https://www.ccsje.org/calendar/bible-study-4/
CATEGORIES:Educational
END:VEVENT
BEGIN:VEVENT
DTSTART;TZID=America/Vancouver:20260226T100000
DTEND;TZID=America/Vancouver:20260226T103000
DTSTAMP:20260423T145424
CREATED:20260130T190653Z
LAST-MODIFIED:20260130T190653Z
UID:3977-1772100000-1772101800@www.ccsje.org
SUMMARY:Holy Eucharist
DESCRIPTION:Lenten Ember Day.
URL:https://www.ccsje.org/calendar/holy-eucharist-9/
CATEGORIES:Divine Service,Lent
END:VEVENT
BEGIN:VEVENT
DTSTART;TZID=America/Vancouver:20260222T100000
DTEND;TZID=America/Vancouver:20260222T110000
DTSTAMP:20260423T145424
CREATED:20260130T190609Z
LAST-MODIFIED:20260130T190609Z
UID:3975-1771754400-1771758000@www.ccsje.org
SUMMARY:Holy Eucharist
DESCRIPTION:First Sunday in Lent\, & Confirmation.
URL:https://www.ccsje.org/calendar/holy-eucharist-8/
CATEGORIES:Divine Service,Lent
END:VEVENT
BEGIN:VEVENT
DTSTART;TZID=America/Vancouver:20260222T090000
DTEND;TZID=America/Vancouver:20260222T093000
DTSTAMP:20260423T145424
CREATED:20260130T190527Z
LAST-MODIFIED:20260130T190527Z
UID:3973-1771750800-1771752600@www.ccsje.org
SUMMARY:Morning Prayer
DESCRIPTION:Start time: 9:15 am.
URL:https://www.ccsje.org/calendar/morning-prayer-4/
CATEGORIES:Divine Service,Lent
END:VEVENT
BEGIN:VEVENT
DTSTART;TZID=America/Vancouver:20260219T103000
DTEND;TZID=America/Vancouver:20260219T113000
DTSTAMP:20260423T145424
CREATED:20260130T190444Z
LAST-MODIFIED:20260130T190444Z
UID:3971-1771497000-1771500600@www.ccsje.org
SUMMARY:Bible Study
DESCRIPTION:Cathedral members only. Contact for more information.
URL:https://www.ccsje.org/calendar/bible-study-3/
CATEGORIES:Educational
END:VEVENT
BEGIN:VEVENT
DTSTART;TZID=America/Vancouver:20260219T100000
DTEND;TZID=America/Vancouver:20260219T103000
DTSTAMP:20260423T145424
CREATED:20260130T190403Z
LAST-MODIFIED:20260130T190403Z
UID:3969-1771495200-1771497000@www.ccsje.org
SUMMARY:Holy Eucharist
DESCRIPTION:Lenten Feria.
URL:https://www.ccsje.org/calendar/holy-eucharist-7/
CATEGORIES:Divine Service,Lent
END:VEVENT
BEGIN:VEVENT
DTSTART;TZID=America/Vancouver:20260218T170000
DTEND;TZID=America/Vancouver:20260218T180000
DTSTAMP:20260423T145424
CREATED:20260213T222500Z
LAST-MODIFIED:20260213T222500Z
UID:4049-1771434000-1771437600@www.ccsje.org
SUMMARY:Ash Wednesday
DESCRIPTION:Imposition of Ashes & Mass.
URL:https://www.ccsje.org/calendar/ash-wednesday-2/
CATEGORIES:Divine Service,Lent,Major Feast Day
END:VEVENT
BEGIN:VEVENT
DTSTART;TZID=America/Vancouver:20260218T100000
DTEND;TZID=America/Vancouver:20260218T110000
DTSTAMP:20260423T145424
CREATED:20260130T190229Z
LAST-MODIFIED:20260130T190229Z
UID:3967-1771408800-1771412400@www.ccsje.org
SUMMARY:Ash Wednesday
DESCRIPTION:Imposition of Ashes & Mass.
URL:https://www.ccsje.org/calendar/ash-wednesday/
CATEGORIES:Divine Service,Lent,Major Feast Day
END:VEVENT
BEGIN:VEVENT
DTSTART;TZID=America/Vancouver:20260215T100000
DTEND;TZID=America/Vancouver:20260215T110000
DTSTAMP:20260423T145424
CREATED:20260130T190127Z
LAST-MODIFIED:20260130T190127Z
UID:3965-1771149600-1771153200@www.ccsje.org
SUMMARY:Holy Eucharist
DESCRIPTION:Quinquagesima Sunday.
URL:https://www.ccsje.org/calendar/holy-eucharist-5/
CATEGORIES:Divine Service,Pre-Lent
END:VEVENT
BEGIN:VEVENT
DTSTART;TZID=America/Vancouver:20260215T090000
DTEND;TZID=America/Vancouver:20260215T093000
DTSTAMP:20260423T145424
CREATED:20260130T190057Z
LAST-MODIFIED:20260130T190057Z
UID:3963-1771146000-1771147800@www.ccsje.org
SUMMARY:Morning Prayer
DESCRIPTION:Start time: 9:15 am.
URL:https://www.ccsje.org/calendar/morning-prayer-2/
CATEGORIES:Divine Service,Pre-Lent
END:VEVENT
BEGIN:VEVENT
DTSTART;TZID=America/Vancouver:20260212T103000
DTEND;TZID=America/Vancouver:20260212T113000
DTSTAMP:20260423T145424
CREATED:20260130T190015Z
LAST-MODIFIED:20260130T190015Z
UID:3961-1770892200-1770895800@www.ccsje.org
SUMMARY:Bible Study
DESCRIPTION:For Cathedral members only. Contact for more information.
URL:https://www.ccsje.org/calendar/bible-study-2/
CATEGORIES:Educational
END:VEVENT
BEGIN:VEVENT
DTSTART;TZID=America/Vancouver:20260212T100000
DTEND;TZID=America/Vancouver:20260212T103000
DTSTAMP:20260423T145424
CREATED:20260130T185934Z
LAST-MODIFIED:20260130T185934Z
UID:3959-1770890400-1770892200@www.ccsje.org
SUMMARY:Holy Eucharist
DESCRIPTION:Feria or Votive.
URL:https://www.ccsje.org/calendar/holy-eucharist-4/
CATEGORIES:Divine Service,Pre-Lent
END:VEVENT
BEGIN:VEVENT
DTSTART;TZID=America/Vancouver:20260208T100000
DTEND;TZID=America/Vancouver:20260208T110000
DTSTAMP:20260423T145424
CREATED:20260130T185845Z
LAST-MODIFIED:20260130T185845Z
UID:3957-1770544800-1770548400@www.ccsje.org
SUMMARY:Holy Eucharist
DESCRIPTION:Sexagesima Sunday.
URL:https://www.ccsje.org/calendar/holy-eucharist-3/
CATEGORIES:Divine Service,Pre-Lent
END:VEVENT
BEGIN:VEVENT
DTSTART;TZID=America/Vancouver:20260208T090000
DTEND;TZID=America/Vancouver:20260208T093000
DTSTAMP:20260423T145424
CREATED:20260130T185816Z
LAST-MODIFIED:20260130T185816Z
UID:3955-1770541200-1770543000@www.ccsje.org
SUMMARY:Morning Prayer
DESCRIPTION:Start time: 9:15 am.
URL:https://www.ccsje.org/calendar/morning-prayer/
CATEGORIES:Divine Service,Pre-Lent
END:VEVENT
BEGIN:VEVENT
DTSTART;TZID=America/Vancouver:20260205T103000
DTEND;TZID=America/Vancouver:20260205T113000
DTSTAMP:20260423T145424
CREATED:20260130T185729Z
LAST-MODIFIED:20260130T185729Z
UID:3953-1770287400-1770291000@www.ccsje.org
SUMMARY:Bible Study
DESCRIPTION:For Cathedral members only. Contact for more information.
URL:https://www.ccsje.org/calendar/bible-study/
CATEGORIES:Educational
END:VEVENT
BEGIN:VEVENT
DTSTART;TZID=America/Vancouver:20260205T100000
DTEND;TZID=America/Vancouver:20260205T103000
DTSTAMP:20260423T145424
CREATED:20260130T185613Z
LAST-MODIFIED:20260130T185631Z
UID:3951-1770285600-1770287400@www.ccsje.org
SUMMARY:Holy Eucharist
DESCRIPTION:Feria or Votive.
URL:https://www.ccsje.org/calendar/holy-eucharist-2/
CATEGORIES:Divine Service,Pre-Lent
END:VEVENT
BEGIN:VEVENT
DTSTART;TZID=America/Vancouver:20260202T100000
DTEND;TZID=America/Vancouver:20260202T110000
DTSTAMP:20260423T145424
CREATED:20260130T185509Z
LAST-MODIFIED:20260130T185509Z
UID:3949-1770026400-1770030000@www.ccsje.org
SUMMARY:Holy Eucharist
DESCRIPTION:Presentation of Christ in the Temple and Purification of the Blessed Virgin Mary (‘Candlemas’).
URL:https://www.ccsje.org/calendar/holy-eucharist/
CATEGORIES:Divine Service,Major Feast Day
END:VEVENT
BEGIN:VEVENT
DTSTART;TZID=America/Vancouver:20260201T100000
DTEND;TZID=America/Vancouver:20260201T110000
DTSTAMP:20260423T145424
CREATED:20251114T191357Z
LAST-MODIFIED:20251114T191357Z
UID:3939-1769940000-1769943600@www.ccsje.org
SUMMARY:Holy Eucharist
DESCRIPTION:Septuagesima Sunday.
URL:https://www.ccsje.org/calendar/holy-eucharist-49/
CATEGORIES:Divine Service,Pre-Lent
END:VEVENT
BEGIN:VEVENT
DTSTART;TZID=America/Vancouver:20260201T090000
DTEND;TZID=America/Vancouver:20260201T093000
DTSTAMP:20260423T145424
CREATED:20251114T191311Z
LAST-MODIFIED:20251114T191311Z
UID:3937-1769936400-1769938200@www.ccsje.org
SUMMARY:Morning Prayer
DESCRIPTION:Start time: 9:15 am.
URL:https://www.ccsje.org/calendar/morning-prayer-22/
CATEGORIES:Divine Service,Pre-Lent
END:VEVENT
BEGIN:VEVENT
DTSTART;TZID=America/Vancouver:20260129T110000
DTEND;TZID=America/Vancouver:20260129T120000
DTSTAMP:20260423T145424
CREATED:20251114T191158Z
LAST-MODIFIED:20251114T191158Z
UID:3935-1769684400-1769688000@www.ccsje.org
SUMMARY:Bible Study
DESCRIPTION:Contact the Cathedral for more information.
URL:https://www.ccsje.org/calendar/bible-study-15/
CATEGORIES:Educational
END:VEVENT
BEGIN:VEVENT
DTSTART;TZID=America/Vancouver:20260129T100000
DTEND;TZID=America/Vancouver:20260129T110000
DTSTAMP:20260423T145424
CREATED:20251114T191112Z
LAST-MODIFIED:20251114T191112Z
UID:3933-1769680800-1769684400@www.ccsje.org
SUMMARY:Holy Eucharist
DESCRIPTION:St. Francis de Sales.
URL:https://www.ccsje.org/calendar/holy-eucharist-48/
CATEGORIES:Divine Service,Saints
END:VEVENT
BEGIN:VEVENT
DTSTART;TZID=America/Vancouver:20260125T100000
DTEND;TZID=America/Vancouver:20260125T110000
DTSTAMP:20260423T145424
CREATED:20251114T191002Z
LAST-MODIFIED:20251114T191002Z
UID:3931-1769335200-1769338800@www.ccsje.org
SUMMARY:Holy Eucharist
DESCRIPTION:Conversion of Saint Paul (Commemoration of Epiphany III).
URL:https://www.ccsje.org/calendar/holy-eucharist-47/
CATEGORIES:Divine Service,Epiphanytide,Major Feast Day,Saints
END:VEVENT
BEGIN:VEVENT
DTSTART;TZID=America/Vancouver:20260125T090000
DTEND;TZID=America/Vancouver:20260125T093000
DTSTAMP:20260423T145424
CREATED:20251114T190917Z
LAST-MODIFIED:20251114T191017Z
UID:3929-1769331600-1769333400@www.ccsje.org
SUMMARY:Morning Prayer
DESCRIPTION:Start time: 9:15 am.
URL:https://www.ccsje.org/calendar/morning-prayer-21/
CATEGORIES:Divine Service,Epiphanytide,Major Feast Day,Saints
END:VEVENT
END:VCALENDAR