BEGIN:VCALENDAR
VERSION:2.0
PRODID:-//CCSJE - ECPv6.15.13//NONSGML v1.0//EN
CALSCALE:GREGORIAN
METHOD:PUBLISH
X-ORIGINAL-URL:https://www.ccsje.org
X-WR-CALDESC:Events for CCSJE
REFRESH-INTERVAL;VALUE=DURATION:PT1H
X-Robots-Tag:noindex
X-PUBLISHED-TTL:PT1H
BEGIN:VTIMEZONE
TZID:America/Vancouver
BEGIN:DAYLIGHT
TZOFFSETFROM:-0800
TZOFFSETTO:-0700
TZNAME:PDT
DTSTART:20250309T100000
END:DAYLIGHT
BEGIN:STANDARD
TZOFFSETFROM:-0700
TZOFFSETTO:-0800
TZNAME:PST
DTSTART:20251102T090000
END:STANDARD
BEGIN:DAYLIGHT
TZOFFSETFROM:-0800
TZOFFSETTO:-0700
TZNAME:PDT
DTSTART:20260308T100000
END:DAYLIGHT
BEGIN:STANDARD
TZOFFSETFROM:-0700
TZOFFSETTO:-0800
TZNAME:PST
DTSTART:20261101T090000
END:STANDARD
BEGIN:DAYLIGHT
TZOFFSETFROM:-0800
TZOFFSETTO:-0700
TZNAME:PDT
DTSTART:20270314T100000
END:DAYLIGHT
BEGIN:STANDARD
TZOFFSETFROM:-0700
TZOFFSETTO:-0800
TZNAME:PST
DTSTART:20271107T090000
END:STANDARD
END:VTIMEZONE
BEGIN:VEVENT
DTSTART;TZID=America/Vancouver:20260702T100000
DTEND;TZID=America/Vancouver:20260702T110000
DTSTAMP:20260423T111712
CREATED:20260325T203710Z
LAST-MODIFIED:20260325T203710Z
UID:4147-1782986400-1782990000@www.ccsje.org
SUMMARY:Holy Eucharist
DESCRIPTION:In Octave of St. Peter and St. Paul.
URL:https://www.ccsje.org/calendar/holy-eucharist-55/
CATEGORIES:Divine Service,Saints,Trinitytide
END:VEVENT
BEGIN:VEVENT
DTSTART;TZID=America/Vancouver:20260702T110000
DTEND;TZID=America/Vancouver:20260702T120000
DTSTAMP:20260423T111712
CREATED:20260325T203743Z
LAST-MODIFIED:20260325T203743Z
UID:4149-1782990000-1782993600@www.ccsje.org
SUMMARY:Bible Study
DESCRIPTION:Cathedral members only. Contact for more information.
URL:https://www.ccsje.org/calendar/bible-study-22/
CATEGORIES:Educational
END:VEVENT
BEGIN:VEVENT
DTSTART;TZID=America/Vancouver:20260705T090000
DTEND;TZID=America/Vancouver:20260705T093000
DTSTAMP:20260423T111712
CREATED:20260325T203832Z
LAST-MODIFIED:20260325T203832Z
UID:4151-1783242000-1783243800@www.ccsje.org
SUMMARY:Morning Prayer
DESCRIPTION:Start time: 9:15 am.
URL:https://www.ccsje.org/calendar/morning-prayer-29/
CATEGORIES:Divine Service,Trinitytide
END:VEVENT
BEGIN:VEVENT
DTSTART;TZID=America/Vancouver:20260705T100000
DTEND;TZID=America/Vancouver:20260705T110000
DTSTAMP:20260423T111712
CREATED:20260325T203924Z
LAST-MODIFIED:20260325T203924Z
UID:4153-1783245600-1783249200@www.ccsje.org
SUMMARY:Holy Eucharist
DESCRIPTION:Fifth Sunday After Trinity.
URL:https://www.ccsje.org/calendar/holy-eucharist-56/
CATEGORIES:Divine Service,Trinitytide
END:VEVENT
BEGIN:VEVENT
DTSTART;TZID=America/Vancouver:20260709T100000
DTEND;TZID=America/Vancouver:20260709T110000
DTSTAMP:20260423T111712
CREATED:20260325T204030Z
LAST-MODIFIED:20260325T204030Z
UID:4155-1783591200-1783594800@www.ccsje.org
SUMMARY:Holy Eucharist
DESCRIPTION:Stephen Langton\, Archbishop of Canterbury.
URL:https://www.ccsje.org/calendar/holy-eucharist-57/
CATEGORIES:Divine Service,Saints
END:VEVENT
BEGIN:VEVENT
DTSTART;TZID=America/Vancouver:20260709T110000
DTEND;TZID=America/Vancouver:20260709T120000
DTSTAMP:20260423T111712
CREATED:20260325T204113Z
LAST-MODIFIED:20260325T204113Z
UID:4157-1783594800-1783598400@www.ccsje.org
SUMMARY:Bible Study
DESCRIPTION:Cathedral members only. Contact for more information.
URL:https://www.ccsje.org/calendar/bible-study-23/
CATEGORIES:Educational
END:VEVENT
BEGIN:VEVENT
DTSTART;TZID=America/Vancouver:20260712T090000
DTEND;TZID=America/Vancouver:20260712T093000
DTSTAMP:20260423T111712
CREATED:20260325T204202Z
LAST-MODIFIED:20260325T204202Z
UID:4159-1783846800-1783848600@www.ccsje.org
SUMMARY:Morning Prayer
DESCRIPTION:Start time: 9:15 am.
URL:https://www.ccsje.org/calendar/morning-prayer-30/
CATEGORIES:Divine Service,Trinitytide
END:VEVENT
BEGIN:VEVENT
DTSTART;TZID=America/Vancouver:20260712T100000
DTEND;TZID=America/Vancouver:20260712T110000
DTSTAMP:20260423T111712
CREATED:20260325T204259Z
LAST-MODIFIED:20260325T204259Z
UID:4161-1783850400-1783854000@www.ccsje.org
SUMMARY:Holy Eucharist
DESCRIPTION:Sixth Sunday After Trinity.
URL:https://www.ccsje.org/calendar/holy-eucharist-58/
CATEGORIES:Divine Service,Trinitytide
END:VEVENT
END:VCALENDAR