BEGIN:VCALENDAR
VERSION:2.0
PRODID:-//CCSJE - ECPv6.15.13//NONSGML v1.0//EN
CALSCALE:GREGORIAN
METHOD:PUBLISH
X-ORIGINAL-URL:https://www.ccsje.org
X-WR-CALDESC:Events for CCSJE
REFRESH-INTERVAL;VALUE=DURATION:PT1H
X-Robots-Tag:noindex
X-PUBLISHED-TTL:PT1H
BEGIN:VTIMEZONE
TZID:America/Vancouver
BEGIN:DAYLIGHT
TZOFFSETFROM:-0800
TZOFFSETTO:-0700
TZNAME:PDT
DTSTART:20250309T100000
END:DAYLIGHT
BEGIN:STANDARD
TZOFFSETFROM:-0700
TZOFFSETTO:-0800
TZNAME:PST
DTSTART:20251102T090000
END:STANDARD
BEGIN:DAYLIGHT
TZOFFSETFROM:-0800
TZOFFSETTO:-0700
TZNAME:PDT
DTSTART:20260308T100000
END:DAYLIGHT
BEGIN:STANDARD
TZOFFSETFROM:-0700
TZOFFSETTO:-0800
TZNAME:PST
DTSTART:20261101T090000
END:STANDARD
BEGIN:DAYLIGHT
TZOFFSETFROM:-0800
TZOFFSETTO:-0700
TZNAME:PDT
DTSTART:20270314T100000
END:DAYLIGHT
BEGIN:STANDARD
TZOFFSETFROM:-0700
TZOFFSETTO:-0800
TZNAME:PST
DTSTART:20271107T090000
END:STANDARD
END:VTIMEZONE
BEGIN:VEVENT
DTSTART;TZID=America/Vancouver:20260503T090000
DTEND;TZID=America/Vancouver:20260503T093000
DTSTAMP:20260423T084944
CREATED:20260325T174533Z
LAST-MODIFIED:20260325T174533Z
UID:4079-1777798800-1777800600@www.ccsje.org
SUMMARY:Morning Prayer
DESCRIPTION:Start time: 9:15 am.
URL:https://www.ccsje.org/calendar/morning-prayer-11/
CATEGORIES:Divine Service,Easter Season
END:VEVENT
BEGIN:VEVENT
DTSTART;TZID=America/Vancouver:20260503T100000
DTEND;TZID=America/Vancouver:20260503T110000
DTSTAMP:20260423T084944
CREATED:20260325T174719Z
LAST-MODIFIED:20260325T174719Z
UID:4081-1777802400-1777806000@www.ccsje.org
SUMMARY:Holy Eucharist
DESCRIPTION:Fourth Sunday After Easter.
URL:https://www.ccsje.org/calendar/holy-eucharist-22/
CATEGORIES:Divine Service,Easter Season
END:VEVENT
BEGIN:VEVENT
DTSTART;TZID=America/Vancouver:20260507T100000
DTEND;TZID=America/Vancouver:20260507T110000
DTSTAMP:20260423T084944
CREATED:20260325T174840Z
LAST-MODIFIED:20260325T174840Z
UID:4083-1778148000-1778151600@www.ccsje.org
SUMMARY:Holy Eucharist
DESCRIPTION:St. John in Eastertide.
URL:https://www.ccsje.org/calendar/holy-eucharist-23/
CATEGORIES:Divine Service,Easter Season
END:VEVENT
BEGIN:VEVENT
DTSTART;TZID=America/Vancouver:20260507T110000
DTEND;TZID=America/Vancouver:20260507T120000
DTSTAMP:20260423T084944
CREATED:20260325T174924Z
LAST-MODIFIED:20260325T174924Z
UID:4085-1778151600-1778155200@www.ccsje.org
SUMMARY:Bible Study
DESCRIPTION:Cathedral members only. Contact for more information.
URL:https://www.ccsje.org/calendar/bible-study-9/
CATEGORIES:Educational
END:VEVENT
BEGIN:VEVENT
DTSTART;TZID=America/Vancouver:20260510T090000
DTEND;TZID=America/Vancouver:20260510T093000
DTSTAMP:20260423T084944
CREATED:20260325T175127Z
LAST-MODIFIED:20260325T175127Z
UID:4087-1778403600-1778405400@www.ccsje.org
SUMMARY:Morning Prayer
DESCRIPTION:Start time: 9:15 am.
URL:https://www.ccsje.org/calendar/morning-prayer-12/
CATEGORIES:Divine Service,Easter Season
END:VEVENT
BEGIN:VEVENT
DTSTART;TZID=America/Vancouver:20260510T100000
DTEND;TZID=America/Vancouver:20260510T110000
DTSTAMP:20260423T084944
CREATED:20260325T175938Z
LAST-MODIFIED:20260325T175938Z
UID:4089-1778407200-1778410800@www.ccsje.org
SUMMARY:Holy Eucharist
DESCRIPTION:Fifth Sunday After Easter (‘Rogation Sunday’).
URL:https://www.ccsje.org/calendar/holy-eucharist-24/
CATEGORIES:Divine Service,Easter Season
END:VEVENT
BEGIN:VEVENT
DTSTART;TZID=America/Vancouver:20260514T100000
DTEND;TZID=America/Vancouver:20260514T110000
DTSTAMP:20260423T084944
CREATED:20260325T180029Z
LAST-MODIFIED:20260325T180029Z
UID:4091-1778752800-1778756400@www.ccsje.org
SUMMARY:Holy Eucharist
DESCRIPTION:Ascension Day.
URL:https://www.ccsje.org/calendar/holy-eucharist-25/
CATEGORIES:Divine Service,Major Feast Day
END:VEVENT
BEGIN:VEVENT
DTSTART;TZID=America/Vancouver:20260514T110000
DTEND;TZID=America/Vancouver:20260514T120000
DTSTAMP:20260423T084944
CREATED:20260325T180100Z
LAST-MODIFIED:20260325T180100Z
UID:4093-1778756400-1778760000@www.ccsje.org
SUMMARY:Bible Study
DESCRIPTION:Cathedral members only. Contact for more information.
URL:https://www.ccsje.org/calendar/bible-study-10/
CATEGORIES:Educational
END:VEVENT
BEGIN:VEVENT
DTSTART;TZID=America/Vancouver:20260517T090000
DTEND;TZID=America/Vancouver:20260517T093000
DTSTAMP:20260423T084944
CREATED:20260325T180313Z
LAST-MODIFIED:20260325T180313Z
UID:4095-1779008400-1779010200@www.ccsje.org
SUMMARY:Morning Prayer
DESCRIPTION:Start time: 9:15 am.
URL:https://www.ccsje.org/calendar/morning-prayer-13/
CATEGORIES:Divine Service
END:VEVENT
BEGIN:VEVENT
DTSTART;TZID=America/Vancouver:20260517T100000
DTEND;TZID=America/Vancouver:20260517T110000
DTSTAMP:20260423T084944
CREATED:20260325T180346Z
LAST-MODIFIED:20260325T180346Z
UID:4097-1779012000-1779015600@www.ccsje.org
SUMMARY:Holy Eucharist
DESCRIPTION:Sunday After Ascension Day.
URL:https://www.ccsje.org/calendar/holy-eucharist-26/
CATEGORIES:Divine Service
END:VEVENT
BEGIN:VEVENT
DTSTART;TZID=America/Vancouver:20260521T100000
DTEND;TZID=America/Vancouver:20260521T110000
DTSTAMP:20260423T084944
CREATED:20260325T180503Z
LAST-MODIFIED:20260325T180503Z
UID:4099-1779357600-1779361200@www.ccsje.org
SUMMARY:Holy Eucharist
DESCRIPTION:Octave Day of Ascension.
URL:https://www.ccsje.org/calendar/holy-eucharist-29/
CATEGORIES:Divine Service
END:VEVENT
BEGIN:VEVENT
DTSTART;TZID=America/Vancouver:20260521T110000
DTEND;TZID=America/Vancouver:20260521T120000
DTSTAMP:20260423T084944
CREATED:20260325T180542Z
LAST-MODIFIED:20260325T180542Z
UID:4101-1779361200-1779364800@www.ccsje.org
SUMMARY:Bible Study
DESCRIPTION:Cathedral members only. Contact for more information.
URL:https://www.ccsje.org/calendar/bible-study-11/
CATEGORIES:Educational
END:VEVENT
BEGIN:VEVENT
DTSTART;TZID=America/Vancouver:20260524T090000
DTEND;TZID=America/Vancouver:20260524T093000
DTSTAMP:20260423T084944
CREATED:20260325T181629Z
LAST-MODIFIED:20260325T181629Z
UID:4103-1779613200-1779615000@www.ccsje.org
SUMMARY:Morning Prayer
DESCRIPTION:Start time: 9:15 am.
URL:https://www.ccsje.org/calendar/morning-prayer-14/
CATEGORIES:Divine Service,Major Feast Day
END:VEVENT
BEGIN:VEVENT
DTSTART;TZID=America/Vancouver:20260524T100000
DTEND;TZID=America/Vancouver:20260524T110000
DTSTAMP:20260423T084944
CREATED:20260325T181720Z
LAST-MODIFIED:20260325T181720Z
UID:4105-1779616800-1779620400@www.ccsje.org
SUMMARY:Holy Eucharist
DESCRIPTION:Whitsunday: The Day of Pentecost. High Mass.
URL:https://www.ccsje.org/calendar/holy-eucharist-38/
CATEGORIES:Divine Service,Major Feast Day
END:VEVENT
BEGIN:VEVENT
DTSTART;TZID=America/Vancouver:20260528T100000
DTEND;TZID=America/Vancouver:20260528T110000
DTSTAMP:20260423T084944
CREATED:20260325T183616Z
LAST-MODIFIED:20260325T183616Z
UID:4107-1779962400-1779966000@www.ccsje.org
SUMMARY:Holy Eucharist
DESCRIPTION:Thursday After Pentecost.
URL:https://www.ccsje.org/calendar/holy-eucharist-40/
CATEGORIES:Divine Service
END:VEVENT
BEGIN:VEVENT
DTSTART;TZID=America/Vancouver:20260528T110000
DTEND;TZID=America/Vancouver:20260528T120000
DTSTAMP:20260423T084944
CREATED:20260325T183659Z
LAST-MODIFIED:20260325T183659Z
UID:4109-1779966000-1779969600@www.ccsje.org
SUMMARY:Bible Study
DESCRIPTION:Cathedral members only. Contact for more information.
URL:https://www.ccsje.org/calendar/bible-study-16/
CATEGORIES:Educational
END:VEVENT
BEGIN:VEVENT
DTSTART;TZID=America/Vancouver:20260531T090000
DTEND;TZID=America/Vancouver:20260531T093000
DTSTAMP:20260423T084944
CREATED:20260325T183913Z
LAST-MODIFIED:20260325T183913Z
UID:4111-1780218000-1780219800@www.ccsje.org
SUMMARY:Morning Prayer
DESCRIPTION:Start time: 9:15 am.
URL:https://www.ccsje.org/calendar/morning-prayer-15/
CATEGORIES:Divine Service,Major Feast Day,Trinitytide
END:VEVENT
BEGIN:VEVENT
DTSTART;TZID=America/Vancouver:20260531T100000
DTEND;TZID=America/Vancouver:20260531T110000
DTSTAMP:20260423T084944
CREATED:20260325T184004Z
LAST-MODIFIED:20260325T184004Z
UID:4113-1780221600-1780225200@www.ccsje.org
SUMMARY:Holy Eucharist
DESCRIPTION:Trinity Sunday. High Mass.
URL:https://www.ccsje.org/calendar/holy-eucharist-42/
CATEGORIES:Divine Service,Major Feast Day,Trinitytide
END:VEVENT
BEGIN:VEVENT
DTSTART;TZID=America/Vancouver:20260604T100000
DTEND;TZID=America/Vancouver:20260604T110000
DTSTAMP:20260423T084944
CREATED:20260325T184206Z
LAST-MODIFIED:20260325T184206Z
UID:4115-1780567200-1780570800@www.ccsje.org
SUMMARY:Holy Eucharist
DESCRIPTION:Corpus Christi.
URL:https://www.ccsje.org/calendar/holy-eucharist-43/
CATEGORIES:Divine Service
END:VEVENT
BEGIN:VEVENT
DTSTART;TZID=America/Vancouver:20260604T110000
DTEND;TZID=America/Vancouver:20260604T120000
DTSTAMP:20260423T084944
CREATED:20260325T195918Z
LAST-MODIFIED:20260325T195945Z
UID:4117-1780570800-1780574400@www.ccsje.org
SUMMARY:Bible Study
DESCRIPTION:Cathedral members only. Contact for more information.
URL:https://www.ccsje.org/calendar/bible-study-17/
CATEGORIES:Educational
END:VEVENT
BEGIN:VEVENT
DTSTART;TZID=America/Vancouver:20260607T090000
DTEND;TZID=America/Vancouver:20260607T093000
DTSTAMP:20260423T084944
CREATED:20260325T200212Z
LAST-MODIFIED:20260325T200212Z
UID:4119-1780822800-1780824600@www.ccsje.org
SUMMARY:Morning Prayer
DESCRIPTION:Start time: 9:15 am.
URL:https://www.ccsje.org/calendar/morning-prayer-25/
CATEGORIES:Divine Service,Trinitytide
END:VEVENT
BEGIN:VEVENT
DTSTART;TZID=America/Vancouver:20260607T100000
DTEND;TZID=America/Vancouver:20260607T110000
DTSTAMP:20260423T084944
CREATED:20260325T200412Z
LAST-MODIFIED:20260325T200412Z
UID:4121-1780826400-1780830000@www.ccsje.org
SUMMARY:Holy Eucharist
DESCRIPTION:First Sunday After Trinity.
URL:https://www.ccsje.org/calendar/holy-eucharist-44/
CATEGORIES:Divine Service,Trinitytide
END:VEVENT
BEGIN:VEVENT
DTSTART;TZID=America/Vancouver:20260611T100000
DTEND;TZID=America/Vancouver:20260611T110000
DTSTAMP:20260423T084944
CREATED:20260325T201337Z
LAST-MODIFIED:20260325T201337Z
UID:4123-1781172000-1781175600@www.ccsje.org
SUMMARY:Holy Eucharist
DESCRIPTION:Feast of Saint Barnabas.
URL:https://www.ccsje.org/calendar/holy-eucharist-45/
CATEGORIES:Divine Service,Major Feast Day,Saints
END:VEVENT
BEGIN:VEVENT
DTSTART;TZID=America/Vancouver:20260611T110000
DTEND;TZID=America/Vancouver:20260611T120000
DTSTAMP:20260423T084944
CREATED:20260325T201411Z
LAST-MODIFIED:20260325T201411Z
UID:4125-1781175600-1781179200@www.ccsje.org
SUMMARY:Bible Study
DESCRIPTION:Cathedral members only. Contact for more information.
URL:https://www.ccsje.org/calendar/bible-study-18/
CATEGORIES:Educational
END:VEVENT
BEGIN:VEVENT
DTSTART;TZID=America/Vancouver:20260614T090000
DTEND;TZID=America/Vancouver:20260614T093000
DTSTAMP:20260423T084944
CREATED:20260325T201546Z
LAST-MODIFIED:20260325T201546Z
UID:4127-1781427600-1781429400@www.ccsje.org
SUMMARY:Morning Prayer
DESCRIPTION:Start time: 9:15 am.
URL:https://www.ccsje.org/calendar/morning-prayer-26/
CATEGORIES:Divine Service,Trinitytide
END:VEVENT
BEGIN:VEVENT
DTSTART;TZID=America/Vancouver:20260614T100000
DTEND;TZID=America/Vancouver:20260614T110000
DTSTAMP:20260423T084944
CREATED:20260325T201632Z
LAST-MODIFIED:20260325T201632Z
UID:4129-1781431200-1781434800@www.ccsje.org
SUMMARY:Holy Eucharist
DESCRIPTION:Second Sunday After Trinity.
URL:https://www.ccsje.org/calendar/holy-eucharist-50/
CATEGORIES:Divine Service,Trinitytide
END:VEVENT
BEGIN:VEVENT
DTSTART;TZID=America/Vancouver:20260618T100000
DTEND;TZID=America/Vancouver:20260618T110000
DTSTAMP:20260423T084944
CREATED:20260325T201921Z
LAST-MODIFIED:20260325T201921Z
UID:4131-1781776800-1781780400@www.ccsje.org
SUMMARY:Holy Eucharist
DESCRIPTION:Feria or Votive.
URL:https://www.ccsje.org/calendar/holy-eucharist-51/
CATEGORIES:Divine Service,Trinitytide
END:VEVENT
BEGIN:VEVENT
DTSTART;TZID=America/Vancouver:20260618T110000
DTEND;TZID=America/Vancouver:20260618T120000
DTSTAMP:20260423T084944
CREATED:20260325T202002Z
LAST-MODIFIED:20260325T202002Z
UID:4133-1781780400-1781784000@www.ccsje.org
SUMMARY:Bible Study
DESCRIPTION:Cathedral members only. Contact for more information.
URL:https://www.ccsje.org/calendar/bible-study-20/
CATEGORIES:Educational
END:VEVENT
BEGIN:VEVENT
DTSTART;TZID=America/Vancouver:20260621T090000
DTEND;TZID=America/Vancouver:20260621T093000
DTSTAMP:20260423T084944
CREATED:20260325T202258Z
LAST-MODIFIED:20260325T202258Z
UID:4135-1782032400-1782034200@www.ccsje.org
SUMMARY:Morning Prayer
DESCRIPTION:Start time: 9:15 am.
URL:https://www.ccsje.org/calendar/morning-prayer-27/
CATEGORIES:Divine Service,Trinitytide
END:VEVENT
BEGIN:VEVENT
DTSTART;TZID=America/Vancouver:20260621T100000
DTEND;TZID=America/Vancouver:20260621T110000
DTSTAMP:20260423T084944
CREATED:20260325T202351Z
LAST-MODIFIED:20260325T202351Z
UID:4137-1782036000-1782039600@www.ccsje.org
SUMMARY:Holy Eucharist
DESCRIPTION:Third Sunday After Trinity.
URL:https://www.ccsje.org/calendar/holy-eucharist-52/
CATEGORIES:Divine Service,Trinitytide
END:VEVENT
END:VCALENDAR