BEGIN:VCALENDAR
VERSION:2.0
PRODID:-//CCSJE - ECPv6.15.13//NONSGML v1.0//EN
CALSCALE:GREGORIAN
METHOD:PUBLISH
X-WR-CALNAME:CCSJE
X-ORIGINAL-URL:https://www.ccsje.org
X-WR-CALDESC:Events for CCSJE
REFRESH-INTERVAL;VALUE=DURATION:PT1H
X-Robots-Tag:noindex
X-PUBLISHED-TTL:PT1H
BEGIN:VTIMEZONE
TZID:America/Vancouver
BEGIN:DAYLIGHT
TZOFFSETFROM:-0800
TZOFFSETTO:-0700
TZNAME:PDT
DTSTART:20250309T100000
END:DAYLIGHT
BEGIN:STANDARD
TZOFFSETFROM:-0700
TZOFFSETTO:-0800
TZNAME:PST
DTSTART:20251102T090000
END:STANDARD
BEGIN:DAYLIGHT
TZOFFSETFROM:-0800
TZOFFSETTO:-0700
TZNAME:PDT
DTSTART:20260308T100000
END:DAYLIGHT
BEGIN:STANDARD
TZOFFSETFROM:-0700
TZOFFSETTO:-0800
TZNAME:PST
DTSTART:20261101T090000
END:STANDARD
BEGIN:DAYLIGHT
TZOFFSETFROM:-0800
TZOFFSETTO:-0700
TZNAME:PDT
DTSTART:20270314T100000
END:DAYLIGHT
BEGIN:STANDARD
TZOFFSETFROM:-0700
TZOFFSETTO:-0800
TZNAME:PST
DTSTART:20271107T090000
END:STANDARD
END:VTIMEZONE
BEGIN:VEVENT
DTSTART;TZID=America/Vancouver:20260425T100000
DTEND;TZID=America/Vancouver:20260425T110000
DTSTAMP:20260423T085222
CREATED:20260324T213056Z
LAST-MODIFIED:20260324T213057Z
UID:4069-1777111200-1777114800@www.ccsje.org
SUMMARY:Holy Eucharist
DESCRIPTION:St. Mark the Evangelist.
URL:https://www.ccsje.org/calendar/holy-eucharist-19/
CATEGORIES:Divine Service,Major Feast Day,Saints
END:VEVENT
BEGIN:VEVENT
DTSTART;TZID=America/Vancouver:20260514T100000
DTEND;TZID=America/Vancouver:20260514T110000
DTSTAMP:20260423T085222
CREATED:20260325T180029Z
LAST-MODIFIED:20260325T180029Z
UID:4091-1778752800-1778756400@www.ccsje.org
SUMMARY:Holy Eucharist
DESCRIPTION:Ascension Day.
URL:https://www.ccsje.org/calendar/holy-eucharist-25/
CATEGORIES:Divine Service,Major Feast Day
END:VEVENT
BEGIN:VEVENT
DTSTART;TZID=America/Vancouver:20260524T090000
DTEND;TZID=America/Vancouver:20260524T093000
DTSTAMP:20260423T085222
CREATED:20260325T181629Z
LAST-MODIFIED:20260325T181629Z
UID:4103-1779613200-1779615000@www.ccsje.org
SUMMARY:Morning Prayer
DESCRIPTION:Start time: 9:15 am.
URL:https://www.ccsje.org/calendar/morning-prayer-14/
CATEGORIES:Divine Service,Major Feast Day
END:VEVENT
BEGIN:VEVENT
DTSTART;TZID=America/Vancouver:20260524T100000
DTEND;TZID=America/Vancouver:20260524T110000
DTSTAMP:20260423T085222
CREATED:20260325T181720Z
LAST-MODIFIED:20260325T181720Z
UID:4105-1779616800-1779620400@www.ccsje.org
SUMMARY:Holy Eucharist
DESCRIPTION:Whitsunday: The Day of Pentecost. High Mass.
URL:https://www.ccsje.org/calendar/holy-eucharist-38/
CATEGORIES:Divine Service,Major Feast Day
END:VEVENT
BEGIN:VEVENT
DTSTART;TZID=America/Vancouver:20260531T090000
DTEND;TZID=America/Vancouver:20260531T093000
DTSTAMP:20260423T085222
CREATED:20260325T183913Z
LAST-MODIFIED:20260325T183913Z
UID:4111-1780218000-1780219800@www.ccsje.org
SUMMARY:Morning Prayer
DESCRIPTION:Start time: 9:15 am.
URL:https://www.ccsje.org/calendar/morning-prayer-15/
CATEGORIES:Divine Service,Major Feast Day,Trinitytide
END:VEVENT
BEGIN:VEVENT
DTSTART;TZID=America/Vancouver:20260531T100000
DTEND;TZID=America/Vancouver:20260531T110000
DTSTAMP:20260423T085222
CREATED:20260325T184004Z
LAST-MODIFIED:20260325T184004Z
UID:4113-1780221600-1780225200@www.ccsje.org
SUMMARY:Holy Eucharist
DESCRIPTION:Trinity Sunday. High Mass.
URL:https://www.ccsje.org/calendar/holy-eucharist-42/
CATEGORIES:Divine Service,Major Feast Day,Trinitytide
END:VEVENT
BEGIN:VEVENT
DTSTART;TZID=America/Vancouver:20260611T100000
DTEND;TZID=America/Vancouver:20260611T110000
DTSTAMP:20260423T085222
CREATED:20260325T201337Z
LAST-MODIFIED:20260325T201337Z
UID:4123-1781172000-1781175600@www.ccsje.org
SUMMARY:Holy Eucharist
DESCRIPTION:Feast of Saint Barnabas.
URL:https://www.ccsje.org/calendar/holy-eucharist-45/
CATEGORIES:Divine Service,Major Feast Day,Saints
END:VEVENT
BEGIN:VEVENT
DTSTART;TZID=America/Vancouver:20260625T100000
DTEND;TZID=America/Vancouver:20260625T110000
DTSTAMP:20260423T085222
CREATED:20260325T203050Z
LAST-MODIFIED:20260325T203050Z
UID:4139-1782381600-1782385200@www.ccsje.org
SUMMARY:Holy Eucharist
DESCRIPTION:Nativity of St. John the Baptist.
URL:https://www.ccsje.org/calendar/holy-eucharist-53/
CATEGORIES:Divine Service,Major Feast Day
END:VEVENT
END:VCALENDAR