BEGIN:VCALENDAR
VERSION:2.0
PRODID:-//CCSJE - ECPv6.15.13//NONSGML v1.0//EN
CALSCALE:GREGORIAN
METHOD:PUBLISH
X-WR-CALNAME:CCSJE
X-ORIGINAL-URL:https://www.ccsje.org
X-WR-CALDESC:Events for CCSJE
REFRESH-INTERVAL;VALUE=DURATION:PT1H
X-Robots-Tag:noindex
X-PUBLISHED-TTL:PT1H
BEGIN:VTIMEZONE
TZID:America/Vancouver
BEGIN:DAYLIGHT
TZOFFSETFROM:-0800
TZOFFSETTO:-0700
TZNAME:PDT
DTSTART:20250309T100000
END:DAYLIGHT
BEGIN:STANDARD
TZOFFSETFROM:-0700
TZOFFSETTO:-0800
TZNAME:PST
DTSTART:20251102T090000
END:STANDARD
BEGIN:DAYLIGHT
TZOFFSETFROM:-0800
TZOFFSETTO:-0700
TZNAME:PDT
DTSTART:20260308T100000
END:DAYLIGHT
BEGIN:STANDARD
TZOFFSETFROM:-0700
TZOFFSETTO:-0800
TZNAME:PST
DTSTART:20261101T090000
END:STANDARD
BEGIN:DAYLIGHT
TZOFFSETFROM:-0800
TZOFFSETTO:-0700
TZNAME:PDT
DTSTART:20270314T100000
END:DAYLIGHT
BEGIN:STANDARD
TZOFFSETFROM:-0700
TZOFFSETTO:-0800
TZNAME:PST
DTSTART:20271107T090000
END:STANDARD
END:VTIMEZONE
BEGIN:VEVENT
DTSTART;TZID=America/Vancouver:20260301T090000
DTEND;TZID=America/Vancouver:20260301T093000
DTSTAMP:20260423T111434
CREATED:20260130T190847Z
LAST-MODIFIED:20260130T190847Z
UID:3983-1772355600-1772357400@www.ccsje.org
SUMMARY:Morning Prayer
DESCRIPTION:Start time: 9:15 am.
URL:https://www.ccsje.org/calendar/morning-prayer-5/
CATEGORIES:Divine Service,Lent
END:VEVENT
BEGIN:VEVENT
DTSTART;TZID=America/Vancouver:20260301T100000
DTEND;TZID=America/Vancouver:20260301T110000
DTSTAMP:20260423T111434
CREATED:20260130T190919Z
LAST-MODIFIED:20260130T190919Z
UID:3985-1772359200-1772362800@www.ccsje.org
SUMMARY:Holy Eucharist
DESCRIPTION:Second Sunday in Lent
URL:https://www.ccsje.org/calendar/holy-eucharist-10/
CATEGORIES:Divine Service,Lent
END:VEVENT
BEGIN:VEVENT
DTSTART;TZID=America/Vancouver:20260305T100000
DTEND;TZID=America/Vancouver:20260305T103000
DTSTAMP:20260423T111434
CREATED:20260130T191014Z
LAST-MODIFIED:20260130T191014Z
UID:3987-1772704800-1772706600@www.ccsje.org
SUMMARY:Holy Eucharist
DESCRIPTION:Lenten Feria.
URL:https://www.ccsje.org/calendar/holy-eucharist-11/
CATEGORIES:Divine Service,Lent
END:VEVENT
BEGIN:VEVENT
DTSTART;TZID=America/Vancouver:20260306T170000
DTEND;TZID=America/Vancouver:20260306T180000
DTSTAMP:20260423T111434
CREATED:20260130T191141Z
LAST-MODIFIED:20260130T191141Z
UID:3991-1772816400-1772820000@www.ccsje.org
SUMMARY:Stations of the Cross
DESCRIPTION:
URL:https://www.ccsje.org/calendar/stations-of-the-cross-2/
CATEGORIES:Lent
END:VEVENT
BEGIN:VEVENT
DTSTART;TZID=America/Vancouver:20260308T090000
DTEND;TZID=America/Vancouver:20260308T093000
DTSTAMP:20260423T111434
CREATED:20260130T191214Z
LAST-MODIFIED:20260130T191214Z
UID:3993-1772960400-1772962200@www.ccsje.org
SUMMARY:Morning Prayer
DESCRIPTION:Start time: 9:15 am.
URL:https://www.ccsje.org/calendar/morning-prayer-6/
CATEGORIES:Divine Service,Lent
END:VEVENT
BEGIN:VEVENT
DTSTART;TZID=America/Vancouver:20260308T100000
DTEND;TZID=America/Vancouver:20260308T110000
DTSTAMP:20260423T111434
CREATED:20260130T191244Z
LAST-MODIFIED:20260130T191244Z
UID:3995-1772964000-1772967600@www.ccsje.org
SUMMARY:Holy Eucharist
DESCRIPTION:Third Sunday in Lent.
URL:https://www.ccsje.org/calendar/holy-eucharist-12/
CATEGORIES:Divine Service,Lent
END:VEVENT
BEGIN:VEVENT
DTSTART;TZID=America/Vancouver:20260313T170000
DTEND;TZID=America/Vancouver:20260313T180000
DTSTAMP:20260423T111434
CREATED:20260130T191608Z
LAST-MODIFIED:20260130T191608Z
UID:4001-1773421200-1773424800@www.ccsje.org
SUMMARY:Stations of the Cross
DESCRIPTION:
URL:https://www.ccsje.org/calendar/stations-of-the-cross-3/
CATEGORIES:Lent
END:VEVENT
BEGIN:VEVENT
DTSTART;TZID=America/Vancouver:20260315T090000
DTEND;TZID=America/Vancouver:20260315T093000
DTSTAMP:20260423T111434
CREATED:20260130T191651Z
LAST-MODIFIED:20260130T191651Z
UID:4003-1773565200-1773567000@www.ccsje.org
SUMMARY:Morning Prayer
DESCRIPTION:Start time: 9:15 am.
URL:https://www.ccsje.org/calendar/morning-prayer-7/
CATEGORIES:Divine Service,Lent
END:VEVENT
BEGIN:VEVENT
DTSTART;TZID=America/Vancouver:20260315T100000
DTEND;TZID=America/Vancouver:20260315T110000
DTSTAMP:20260423T111434
CREATED:20260130T191722Z
LAST-MODIFIED:20260130T191722Z
UID:4005-1773568800-1773572400@www.ccsje.org
SUMMARY:Holy Eucharist
DESCRIPTION:Fourth Sunday in Lent – Lartare & Rose Sunday.
URL:https://www.ccsje.org/calendar/holy-eucharist-14/
CATEGORIES:Divine Service,Lent
END:VEVENT
BEGIN:VEVENT
DTSTART;TZID=America/Vancouver:20260320T170000
DTEND;TZID=America/Vancouver:20260320T180000
DTSTAMP:20260423T111434
CREATED:20260130T192216Z
LAST-MODIFIED:20260130T192216Z
UID:4011-1774026000-1774029600@www.ccsje.org
SUMMARY:Stations of the Cross
DESCRIPTION:
URL:https://www.ccsje.org/calendar/stations-of-the-cross-4/
CATEGORIES:Lent
END:VEVENT
BEGIN:VEVENT
DTSTART;TZID=America/Vancouver:20260322T090000
DTEND;TZID=America/Vancouver:20260322T093000
DTSTAMP:20260423T111434
CREATED:20260130T192326Z
LAST-MODIFIED:20260130T192326Z
UID:4013-1774170000-1774171800@www.ccsje.org
SUMMARY:Morning Prayer
DESCRIPTION:Start time: 9:15 am.
URL:https://www.ccsje.org/calendar/morning-prayer-8/
CATEGORIES:Divine Service,Lent
END:VEVENT
BEGIN:VEVENT
DTSTART;TZID=America/Vancouver:20260322T100000
DTEND;TZID=America/Vancouver:20260322T110000
DTSTAMP:20260423T111434
CREATED:20260130T192356Z
LAST-MODIFIED:20260130T192356Z
UID:4015-1774173600-1774177200@www.ccsje.org
SUMMARY:Holy Eucharist
DESCRIPTION:Passion Sunday: Fifth Sunday in Lent.
URL:https://www.ccsje.org/calendar/holy-eucharist-34/
CATEGORIES:Divine Service,Lent
END:VEVENT
BEGIN:VEVENT
DTSTART;TZID=America/Vancouver:20260326T100000
DTEND;TZID=America/Vancouver:20260326T103000
DTSTAMP:20260423T111434
CREATED:20260130T192516Z
LAST-MODIFIED:20260130T192516Z
UID:4019-1774519200-1774521000@www.ccsje.org
SUMMARY:Holy Eucharist
DESCRIPTION:Lenten Feria.
URL:https://www.ccsje.org/calendar/holy-eucharist-39/
CATEGORIES:Divine Service,Lent
END:VEVENT
BEGIN:VEVENT
DTSTART;TZID=America/Vancouver:20260327T170000
DTEND;TZID=America/Vancouver:20260327T180000
DTSTAMP:20260423T111434
CREATED:20260130T192700Z
LAST-MODIFIED:20260130T192700Z
UID:4023-1774630800-1774634400@www.ccsje.org
SUMMARY:Stations of the Cross
DESCRIPTION:
URL:https://www.ccsje.org/calendar/stations-of-the-cross-5/
CATEGORIES:Lent
END:VEVENT
END:VCALENDAR