BEGIN:VCALENDAR
VERSION:2.0
PRODID:-//CCSJE - ECPv6.15.13//NONSGML v1.0//EN
CALSCALE:GREGORIAN
METHOD:PUBLISH
X-WR-CALNAME:CCSJE
X-ORIGINAL-URL:https://www.ccsje.org
X-WR-CALDESC:Events for CCSJE
REFRESH-INTERVAL;VALUE=DURATION:PT1H
X-Robots-Tag:noindex
X-PUBLISHED-TTL:PT1H
BEGIN:VTIMEZONE
TZID:America/Vancouver
BEGIN:DAYLIGHT
TZOFFSETFROM:-0800
TZOFFSETTO:-0700
TZNAME:PDT
DTSTART:20250309T100000
END:DAYLIGHT
BEGIN:STANDARD
TZOFFSETFROM:-0700
TZOFFSETTO:-0800
TZNAME:PST
DTSTART:20251102T090000
END:STANDARD
BEGIN:DAYLIGHT
TZOFFSETFROM:-0800
TZOFFSETTO:-0700
TZNAME:PDT
DTSTART:20260308T100000
END:DAYLIGHT
BEGIN:STANDARD
TZOFFSETFROM:-0700
TZOFFSETTO:-0800
TZNAME:PST
DTSTART:20261101T090000
END:STANDARD
BEGIN:DAYLIGHT
TZOFFSETFROM:-0800
TZOFFSETTO:-0700
TZNAME:PDT
DTSTART:20270314T100000
END:DAYLIGHT
BEGIN:STANDARD
TZOFFSETFROM:-0700
TZOFFSETTO:-0800
TZNAME:PST
DTSTART:20271107T090000
END:STANDARD
END:VTIMEZONE
BEGIN:VEVENT
DTSTART;TZID=America/Vancouver:20260404T103000
DTEND;TZID=America/Vancouver:20260404T110000
DTSTAMP:20260423T111557
CREATED:20260130T193459Z
LAST-MODIFIED:20260130T193459Z
UID:4039-1775298600-1775300400@www.ccsje.org
SUMMARY:Sacrament of Penance
DESCRIPTION:Confession.
URL:https://www.ccsje.org/calendar/sacrament-of-penance-2/
CATEGORIES:Holy Week
END:VEVENT
BEGIN:VEVENT
DTSTART;TZID=America/Vancouver:20260404T100000
DTEND;TZID=America/Vancouver:20260404T103000
DTSTAMP:20260423T111557
CREATED:20260130T193411Z
LAST-MODIFIED:20260130T193411Z
UID:4037-1775296800-1775298600@www.ccsje.org
SUMMARY:Holy Saturday: Morning Prayer & Ante-Communion
DESCRIPTION:
URL:https://www.ccsje.org/calendar/holy-saturday-morning-prayer-ante-communion/
CATEGORIES:Divine Service,Holy Week
END:VEVENT
BEGIN:VEVENT
DTSTART;TZID=America/Vancouver:20260403T143000
DTEND;TZID=America/Vancouver:20260403T160000
DTSTAMP:20260423T111557
CREATED:20260130T193309Z
LAST-MODIFIED:20260130T193309Z
UID:4035-1775226600-1775232000@www.ccsje.org
SUMMARY:Liturgy of the Passion and Death of Our Lord
DESCRIPTION:
URL:https://www.ccsje.org/calendar/liturgy-of-the-passion-and-death-of-our-lord/
CATEGORIES:Divine Service,Holy Week
END:VEVENT
BEGIN:VEVENT
DTSTART;TZID=America/Vancouver:20260403T103000
DTEND;TZID=America/Vancouver:20260403T110000
DTSTAMP:20260423T111557
CREATED:20260130T193221Z
LAST-MODIFIED:20260130T193221Z
UID:4033-1775212200-1775214000@www.ccsje.org
SUMMARY:Sacrament of Penance
DESCRIPTION:Confession.
URL:https://www.ccsje.org/calendar/sacrament-of-penance/
CATEGORIES:Holy Week
END:VEVENT
BEGIN:VEVENT
DTSTART;TZID=America/Vancouver:20260403T100000
DTEND;TZID=America/Vancouver:20260403T103000
DTSTAMP:20260423T111557
CREATED:20260130T193142Z
LAST-MODIFIED:20260130T193142Z
UID:4031-1775210400-1775212200@www.ccsje.org
SUMMARY:Good Friday: Morning Prayer & Litany
DESCRIPTION:
URL:https://www.ccsje.org/calendar/good-friday-morning-prayer-litany/
CATEGORIES:Divine Service,Holy Week
END:VEVENT
BEGIN:VEVENT
DTSTART;TZID=America/Vancouver:20260402T190000
DTEND;TZID=America/Vancouver:20260402T213000
DTSTAMP:20260423T111557
CREATED:20260130T193052Z
LAST-MODIFIED:20260130T193052Z
UID:4029-1775156400-1775165400@www.ccsje.org
SUMMARY:Mass of the Last Supper
DESCRIPTION:Maundy Thursday. Adoration & Vigil until 9:30 pm.
URL:https://www.ccsje.org/calendar/mass-of-the-last-supper/
CATEGORIES:Divine Service,Holy Week
END:VEVENT
BEGIN:VEVENT
DTSTART;TZID=America/Vancouver:20260329T100000
DTEND;TZID=America/Vancouver:20260329T110000
DTSTAMP:20260423T111557
CREATED:20260130T192906Z
LAST-MODIFIED:20260130T192906Z
UID:4027-1774778400-1774782000@www.ccsje.org
SUMMARY:Holy Eucharist
DESCRIPTION:Palm Sunday: Beginning of Holy Week. Blessing & Distribution of Palms\, and Mass.
URL:https://www.ccsje.org/calendar/holy-eucharist-41/
CATEGORIES:Divine Service,Holy Week
END:VEVENT
BEGIN:VEVENT
DTSTART;TZID=America/Vancouver:20260329T090000
DTEND;TZID=America/Vancouver:20260329T093000
DTSTAMP:20260423T111557
CREATED:20260130T192820Z
LAST-MODIFIED:20260130T192820Z
UID:4025-1774774800-1774776600@www.ccsje.org
SUMMARY:Morning Prayer
DESCRIPTION:Start time: 9:15 am.
URL:https://www.ccsje.org/calendar/morning-prayer-23/
CATEGORIES:Divine Service,Holy Week
END:VEVENT
END:VCALENDAR