BEGIN:VCALENDAR
VERSION:2.0
PRODID:-//CCSJE - ECPv6.15.13//NONSGML v1.0//EN
CALSCALE:GREGORIAN
METHOD:PUBLISH
X-ORIGINAL-URL:https://www.ccsje.org
X-WR-CALDESC:Events for CCSJE
REFRESH-INTERVAL;VALUE=DURATION:PT1H
X-Robots-Tag:noindex
X-PUBLISHED-TTL:PT1H
BEGIN:VTIMEZONE
TZID:America/Vancouver
BEGIN:DAYLIGHT
TZOFFSETFROM:-0800
TZOFFSETTO:-0700
TZNAME:PDT
DTSTART:20250309T100000
END:DAYLIGHT
BEGIN:STANDARD
TZOFFSETFROM:-0700
TZOFFSETTO:-0800
TZNAME:PST
DTSTART:20251102T090000
END:STANDARD
BEGIN:DAYLIGHT
TZOFFSETFROM:-0800
TZOFFSETTO:-0700
TZNAME:PDT
DTSTART:20260308T100000
END:DAYLIGHT
BEGIN:STANDARD
TZOFFSETFROM:-0700
TZOFFSETTO:-0800
TZNAME:PST
DTSTART:20261101T090000
END:STANDARD
BEGIN:DAYLIGHT
TZOFFSETFROM:-0800
TZOFFSETTO:-0700
TZNAME:PDT
DTSTART:20270314T100000
END:DAYLIGHT
BEGIN:STANDARD
TZOFFSETFROM:-0700
TZOFFSETTO:-0800
TZNAME:PST
DTSTART:20271107T090000
END:STANDARD
END:VTIMEZONE
BEGIN:VEVENT
DTSTART;TZID=America/Vancouver:20260329T090000
DTEND;TZID=America/Vancouver:20260329T093000
DTSTAMP:20260423T100558
CREATED:20260130T192820Z
LAST-MODIFIED:20260130T192820Z
UID:4025-1774774800-1774776600@www.ccsje.org
SUMMARY:Morning Prayer
DESCRIPTION:Start time: 9:15 am.
URL:https://www.ccsje.org/calendar/morning-prayer-23/
CATEGORIES:Divine Service,Holy Week
END:VEVENT
BEGIN:VEVENT
DTSTART;TZID=America/Vancouver:20260329T100000
DTEND;TZID=America/Vancouver:20260329T110000
DTSTAMP:20260423T100558
CREATED:20260130T192906Z
LAST-MODIFIED:20260130T192906Z
UID:4027-1774778400-1774782000@www.ccsje.org
SUMMARY:Holy Eucharist
DESCRIPTION:Palm Sunday: Beginning of Holy Week. Blessing & Distribution of Palms\, and Mass.
URL:https://www.ccsje.org/calendar/holy-eucharist-41/
CATEGORIES:Divine Service,Holy Week
END:VEVENT
END:VCALENDAR