BEGIN:VCALENDAR
VERSION:2.0
PRODID:-//CCSJE - ECPv6.15.13//NONSGML v1.0//EN
CALSCALE:GREGORIAN
METHOD:PUBLISH
X-ORIGINAL-URL:https://www.ccsje.org
X-WR-CALDESC:Events for CCSJE
REFRESH-INTERVAL;VALUE=DURATION:PT1H
X-Robots-Tag:noindex
X-PUBLISHED-TTL:PT1H
BEGIN:VTIMEZONE
TZID:America/Vancouver
BEGIN:DAYLIGHT
TZOFFSETFROM:-0800
TZOFFSETTO:-0700
TZNAME:PDT
DTSTART:20250309T100000
END:DAYLIGHT
BEGIN:STANDARD
TZOFFSETFROM:-0700
TZOFFSETTO:-0800
TZNAME:PST
DTSTART:20251102T090000
END:STANDARD
BEGIN:DAYLIGHT
TZOFFSETFROM:-0800
TZOFFSETTO:-0700
TZNAME:PDT
DTSTART:20260308T100000
END:DAYLIGHT
BEGIN:STANDARD
TZOFFSETFROM:-0700
TZOFFSETTO:-0800
TZNAME:PST
DTSTART:20261101T090000
END:STANDARD
BEGIN:DAYLIGHT
TZOFFSETFROM:-0800
TZOFFSETTO:-0700
TZNAME:PDT
DTSTART:20270314T100000
END:DAYLIGHT
BEGIN:STANDARD
TZOFFSETFROM:-0700
TZOFFSETTO:-0800
TZNAME:PST
DTSTART:20271107T090000
END:STANDARD
END:VTIMEZONE
BEGIN:VEVENT
DTSTART;TZID=America/Vancouver:20260426T090000
DTEND;TZID=America/Vancouver:20260426T093000
DTSTAMP:20260423T085418
CREATED:20260324T213200Z
LAST-MODIFIED:20260324T213200Z
UID:4071-1777194000-1777195800@www.ccsje.org
SUMMARY:Morning Prayer
DESCRIPTION:Start time: 9:15 am.
URL:https://www.ccsje.org/calendar/morning-prayer-10/
CATEGORIES:Divine Service,Easter Season
END:VEVENT
BEGIN:VEVENT
DTSTART;TZID=America/Vancouver:20260426T100000
DTEND;TZID=America/Vancouver:20260426T110000
DTSTAMP:20260423T085418
CREATED:20260324T213238Z
LAST-MODIFIED:20260324T213238Z
UID:4073-1777197600-1777201200@www.ccsje.org
SUMMARY:Holy Eucharist
DESCRIPTION:Third Sunday After Easter.
URL:https://www.ccsje.org/calendar/holy-eucharist-20/
CATEGORIES:Divine Service,Easter Season
END:VEVENT
BEGIN:VEVENT
DTSTART;TZID=America/Vancouver:20260430T100000
DTEND;TZID=America/Vancouver:20260430T110000
DTSTAMP:20260423T085418
CREATED:20260325T173430Z
LAST-MODIFIED:20260325T173430Z
UID:4075-1777543200-1777546800@www.ccsje.org
SUMMARY:Holy Eucharist
DESCRIPTION:Eastertide Feria.
URL:https://www.ccsje.org/calendar/holy-eucharist-21/
CATEGORIES:Divine Service,Easter Season
END:VEVENT
END:VCALENDAR